BEGIN:VCALENDAR
VERSION:2.0
PRODID:-//KTV - ECPv6.15.16//NONSGML v1.0//EN
CALSCALE:GREGORIAN
METHOD:PUBLISH
X-WR-CALNAME:KTV
X-ORIGINAL-URL:https://ktv-dithmarschen.de
X-WR-CALDESC:Veranstaltungen für KTV
REFRESH-INTERVAL;VALUE=DURATION:PT1H
X-Robots-Tag:noindex
X-PUBLISHED-TTL:PT1H
BEGIN:VTIMEZONE
TZID:Europe/Berlin
BEGIN:DAYLIGHT
TZOFFSETFROM:+0100
TZOFFSETTO:+0200
TZNAME:CEST
DTSTART:20240331T010000
END:DAYLIGHT
BEGIN:STANDARD
TZOFFSETFROM:+0200
TZOFFSETTO:+0100
TZNAME:CET
DTSTART:20241027T010000
END:STANDARD
BEGIN:DAYLIGHT
TZOFFSETFROM:+0100
TZOFFSETTO:+0200
TZNAME:CEST
DTSTART:20250330T010000
END:DAYLIGHT
BEGIN:STANDARD
TZOFFSETFROM:+0200
TZOFFSETTO:+0100
TZNAME:CET
DTSTART:20251026T010000
END:STANDARD
BEGIN:DAYLIGHT
TZOFFSETFROM:+0100
TZOFFSETTO:+0200
TZNAME:CEST
DTSTART:20260329T010000
END:DAYLIGHT
BEGIN:STANDARD
TZOFFSETFROM:+0200
TZOFFSETTO:+0100
TZNAME:CET
DTSTART:20261025T010000
END:STANDARD
END:VTIMEZONE
BEGIN:VEVENT
DTSTART;TZID=Europe/Berlin:20250208T092000
DTEND;TZID=Europe/Berlin:20250208T133000
DTSTAMP:20260421T194003
CREATED:20241211T190735Z
LAST-MODIFIED:20241211T190735Z
UID:5994-1739006400-1739021400@ktv-dithmarschen.de
SUMMARY:2. PTR 2025 Meldorf (kreisoffen)
DESCRIPTION:Meldeformular \nAusschreibung
URL:https://ktv-dithmarschen.de/veranstaltung/1-ptr-2018-heide-nur-kreisintern-2-2-2-2
LOCATION:Großporthalle am Schwimmbad\, Büttelsweg\, Meldorf\, 25704
CATEGORIES:Wettkampf
ATTACH;FMTTYPE=image/jpeg:https://ktv-dithmarschen.de/wp-content/uploads/2023/02/resized_P2250761_Kopie_3x2.jpg
END:VEVENT
END:VCALENDAR