BEGIN:VCALENDAR
VERSION:2.0
PRODID:-//KTV - ECPv6.15.16//NONSGML v1.0//EN
CALSCALE:GREGORIAN
METHOD:PUBLISH
X-WR-CALNAME:KTV
X-ORIGINAL-URL:https://ktv-dithmarschen.de
X-WR-CALDESC:Veranstaltungen für KTV
REFRESH-INTERVAL;VALUE=DURATION:PT1H
X-Robots-Tag:noindex
X-PUBLISHED-TTL:PT1H
BEGIN:VTIMEZONE
TZID:Europe/Berlin
BEGIN:DAYLIGHT
TZOFFSETFROM:+0100
TZOFFSETTO:+0200
TZNAME:CEST
DTSTART:20240331T010000
END:DAYLIGHT
BEGIN:STANDARD
TZOFFSETFROM:+0200
TZOFFSETTO:+0100
TZNAME:CET
DTSTART:20241027T010000
END:STANDARD
BEGIN:DAYLIGHT
TZOFFSETFROM:+0100
TZOFFSETTO:+0200
TZNAME:CEST
DTSTART:20250330T010000
END:DAYLIGHT
BEGIN:STANDARD
TZOFFSETFROM:+0200
TZOFFSETTO:+0100
TZNAME:CET
DTSTART:20251026T010000
END:STANDARD
BEGIN:DAYLIGHT
TZOFFSETFROM:+0100
TZOFFSETTO:+0200
TZNAME:CEST
DTSTART:20260329T010000
END:DAYLIGHT
BEGIN:STANDARD
TZOFFSETFROM:+0200
TZOFFSETTO:+0100
TZNAME:CET
DTSTART:20261025T010000
END:STANDARD
END:VTIMEZONE
BEGIN:VEVENT
DTSTART;TZID=Europe/Berlin:20250301T140000
DTEND;TZID=Europe/Berlin:20250301T150000
DTSTAMP:20260421T145823
CREATED:20250110T095732Z
LAST-MODIFIED:20250110T095732Z
UID:6045-1740837600-1740841200@ktv-dithmarschen.de
SUMMARY:Kreisturntag 2025
DESCRIPTION:Aktueller Termin 01. März 2025 \nGasthof: „Pahlazzo“\nHauptstraße 27\n25794 Pahlen \nAusschreibung
URL:https://ktv-dithmarschen.de/veranstaltung/kreisturntag-2018-2-2-2-2-2-2-2
LOCATION:„Pahlazzo“\, Hauptstraße 27\, Pahlen\, 25794
CATEGORIES:Veranstaltung
ATTACH;FMTTYPE=image/gif:https://ktv-dithmarschen.de/wp-content/uploads/2025/01/KTT_2025.gif
END:VEVENT
END:VCALENDAR