BEGIN:VCALENDAR
VERSION:2.0
PRODID:-//KTV - ECPv6.15.16//NONSGML v1.0//EN
CALSCALE:GREGORIAN
METHOD:PUBLISH
X-ORIGINAL-URL:https://ktv-dithmarschen.de
X-WR-CALDESC:Veranstaltungen für KTV
REFRESH-INTERVAL;VALUE=DURATION:PT1H
X-Robots-Tag:noindex
X-PUBLISHED-TTL:PT1H
BEGIN:VTIMEZONE
TZID:Europe/Berlin
BEGIN:DAYLIGHT
TZOFFSETFROM:+0100
TZOFFSETTO:+0200
TZNAME:CEST
DTSTART:20240331T010000
END:DAYLIGHT
BEGIN:STANDARD
TZOFFSETFROM:+0200
TZOFFSETTO:+0100
TZNAME:CET
DTSTART:20241027T010000
END:STANDARD
BEGIN:DAYLIGHT
TZOFFSETFROM:+0100
TZOFFSETTO:+0200
TZNAME:CEST
DTSTART:20250330T010000
END:DAYLIGHT
BEGIN:STANDARD
TZOFFSETFROM:+0200
TZOFFSETTO:+0100
TZNAME:CET
DTSTART:20251026T010000
END:STANDARD
BEGIN:DAYLIGHT
TZOFFSETFROM:+0100
TZOFFSETTO:+0200
TZNAME:CEST
DTSTART:20260329T010000
END:DAYLIGHT
BEGIN:STANDARD
TZOFFSETFROM:+0200
TZOFFSETTO:+0100
TZNAME:CET
DTSTART:20261025T010000
END:STANDARD
END:VTIMEZONE
BEGIN:VEVENT
DTSTART;TZID=Europe/Berlin:20250111T100000
DTEND;TZID=Europe/Berlin:20250111T160000
DTSTAMP:20260421T195038
CREATED:20240505T092354Z
LAST-MODIFIED:20240519T081232Z
UID:5840-1736589600-1736611200@ktv-dithmarschen.de
SUMMARY:Erste-Hilfe Schulung
DESCRIPTION:Fortbildungsprogramm 2024 / 2025 \nErste-Hilfe Schulung \nAnmeldung/ Info: 04834/936659 \nWir bitten um Verständnis\, dass bei Absagen bis 3 Tage vor Kursbeginn\, die Gebühren in Rechnung gestellt werden.  \nmartina.vonBuch@ktv-Dithmarschen.de \n  \n 
URL:https://ktv-dithmarschen.de/veranstaltung/rund-um-den-ruecken-und-dehnung-fuer-mehr-beweglichkeit-4-2-2-2
LOCATION:MTV Gymnastikhalle\, Am Sportplatz 1\, Heide\, 25746
CATEGORIES:Fortbildung
ATTACH;FMTTYPE=image/png:https://ktv-dithmarschen.de/wp-content/uploads/2019/02/Erste-Hilfe-Kurs._Kopie.png
END:VEVENT
BEGIN:VEVENT
DTSTART;TZID=Europe/Berlin:20250125T092000
DTEND;TZID=Europe/Berlin:20250125T133000
DTSTAMP:20260421T195038
CREATED:20241211T190604Z
LAST-MODIFIED:20241211T190604Z
UID:5991-1737796800-1737811800@ktv-dithmarschen.de
SUMMARY:1. PTR 2025 Brunsbüttel
DESCRIPTION:Meldeformular \nAusschreibung \n 
URL:https://ktv-dithmarschen.de/veranstaltung/1-ptr-2018-heide-nur-kreisintern-4-2-3-2-2
LOCATION:Sporthalle Schulzentrum Brunsbüttel\, Kopernikusstraße 3\, Brunsbüttel\, 25541\, Deutschland
CATEGORIES:Wettkampf
ATTACH;FMTTYPE=image/jpeg:https://ktv-dithmarschen.de/wp-content/uploads/2020/02/resized_20200208_2266_kopie_3x2-Kopie-1.jpg
END:VEVENT
BEGIN:VEVENT
DTSTART;TZID=Europe/Berlin:20250126T100000
DTEND;TZID=Europe/Berlin:20250126T130000
DTSTAMP:20260421T195038
CREATED:20240505T093757Z
LAST-MODIFIED:20240505T093805Z
UID:5844-1737885600-1737896400@ktv-dithmarschen.de
SUMMARY:Rund um den Rücken
DESCRIPTION:Fortbildungsprogramm 2024 / 2025 \n„Rund um den Rücken“ mit Svenja Gleitsmann\nin der MTV Gymnastikhalle\, Am Sportplatz 1\, 25746 Heide \n30\,- € (4 ÜE) \nAnm.:/Info: 04834/936659 \nWir bitten um Verständnis\, dass bei Absagen bis 3 Tage vor Kursbeginn\, die Gebühren in Rechnung gestellt werden.  \nmartina.vonBuch@ktv-Dithmarschen.de
URL:https://ktv-dithmarschen.de/veranstaltung/step-meets-salsa-2-3-3-2-3-2-4
LOCATION:MTV Gymnastikhalle\, Am Sportplatz 1\, Heide\, 25746
CATEGORIES:Fortbildung
ATTACH;FMTTYPE=image/jpeg:https://ktv-dithmarschen.de/wp-content/uploads/2018/07/Fotolia_175562378_S.jpg
END:VEVENT
END:VCALENDAR