BEGIN:VCALENDAR
VERSION:2.0
PRODID:-//KTV - ECPv6.15.16//NONSGML v1.0//EN
CALSCALE:GREGORIAN
METHOD:PUBLISH
X-ORIGINAL-URL:https://ktv-dithmarschen.de
X-WR-CALDESC:Veranstaltungen für KTV
REFRESH-INTERVAL;VALUE=DURATION:PT1H
X-Robots-Tag:noindex
X-PUBLISHED-TTL:PT1H
BEGIN:VTIMEZONE
TZID:Europe/Berlin
BEGIN:DAYLIGHT
TZOFFSETFROM:+0100
TZOFFSETTO:+0200
TZNAME:CEST
DTSTART:20250330T010000
END:DAYLIGHT
BEGIN:STANDARD
TZOFFSETFROM:+0200
TZOFFSETTO:+0100
TZNAME:CET
DTSTART:20251026T010000
END:STANDARD
BEGIN:DAYLIGHT
TZOFFSETFROM:+0100
TZOFFSETTO:+0200
TZNAME:CEST
DTSTART:20260329T010000
END:DAYLIGHT
BEGIN:STANDARD
TZOFFSETFROM:+0200
TZOFFSETTO:+0100
TZNAME:CET
DTSTART:20261025T010000
END:STANDARD
BEGIN:DAYLIGHT
TZOFFSETFROM:+0100
TZOFFSETTO:+0200
TZNAME:CEST
DTSTART:20270328T010000
END:DAYLIGHT
BEGIN:STANDARD
TZOFFSETFROM:+0200
TZOFFSETTO:+0100
TZNAME:CET
DTSTART:20271031T010000
END:STANDARD
END:VTIMEZONE
BEGIN:VEVENT
DTSTART;TZID=Europe/Berlin:20260131T093000
DTEND;TZID=Europe/Berlin:20260314T170000
DTSTAMP:20260422T012845
CREATED:20251216T230315Z
LAST-MODIFIED:20251216T232711Z
UID:6439-1769851800-1773507600@ktv-dithmarschen.de
SUMMARY:Werde Bewegungs-Coach
DESCRIPTION:Du bist Elternteil oder einfach sportinteressiert? \n       Hier kannst du was bewegen! \nNach nur zwei spannenden Lehrgangstagen kannst du \n\nattraktives Eltern-(Oma/Opa/…)-Kind-Turnen anleiten.\ndie motorischen Grundfertigkeiten der Kleinsten schulen.\nTurngeräte sicher und sorgenfrei einsetzen.\n\nInformiere dich jetzt!
URL:https://ktv-dithmarschen.de/veranstaltung/werde-bewegungs-coach
LOCATION:Satrup\, Sporthalle der Regenbogenschule Satrup\, Satrup
ATTACH;FMTTYPE=image/png:https://ktv-dithmarschen.de/wp-content/uploads/2025/12/Online-Plakat-Bewegungs-Coach-31.01.2026.png
END:VEVENT
END:VCALENDAR